BEGIN:VCALENDAR
VERSION:2.0
PRODID:-//jEvents 2.0 for Joomla//EN
CALSCALE:GREGORIAN
METHOD:PUBLISH
BEGIN:VEVENT
UID:040000008200E00074C5B7101A82E00800000000F0A18ADDB722D90100000000000000001000000030E856DFFD167F48A07D3BB931DEF7E0
CATEGORIES:Dienstplan Einsatzabteilung 
CLASS:PUBLIC
CREATED:20230110T204127
SUMMARY:Rot / Blau - Löschmittel Wasser, Schaum, Pulver, CO2
DESCRIPTION;ENCODING=QUOTED-PRINTABLE: \n
DTSTAMP:20260425T104019Z
DTSTART:20230619T180000Z
DTEND:20230619T193000Z
SEQUENCE:0
TRANSP:OPAQUE
END:VEVENT
END:VCALENDAR