BEGIN:VCALENDAR
VERSION:2.0
PRODID:-//jEvents 2.0 for Joomla//EN
CALSCALE:GREGORIAN
METHOD:PUBLISH
BEGIN:VEVENT
UID:040000008200E00074C5B7101A82E00800000000206F78707F23D901000000000000000010000000DB5F867CE093F245B1A64ADC73A2F32F
CATEGORIES:Dienstplan Einsatzabteilung 
CLASS:PUBLIC
CREATED:20230110T204126
SUMMARY:AGT - Stationsausbildung
DESCRIPTION;ENCODING=QUOTED-PRINTABLE:
DTSTAMP:20260425T102350Z
DTSTART:20230629T180000Z
DTEND:20230629T193000Z
SEQUENCE:0
TRANSP:OPAQUE
END:VEVENT
END:VCALENDAR