BEGIN:VCALENDAR
VERSION:2.0
PRODID:-//jEvents 2.0 for Joomla//EN
CALSCALE:GREGORIAN
METHOD:PUBLISH
BEGIN:VEVENT
UID:040000008200E00074C5B7101A82E00800000000D0D746707F23D9010000000000000000100000003B49FF88ED49E14698B89F05B5CE76B6
CATEGORIES:Dienstplan Einsatzabteilung 
CLASS:PUBLIC
CREATED:20230110T204125
SUMMARY:TM Modul 6 - Vorgehen bei Unfällen mit Pkw
DESCRIPTION;ENCODING=QUOTED-PRINTABLE:
DTSTAMP:20260425T104117Z
DTSTART:20230624T060000Z
DTEND:20230624T150000Z
SEQUENCE:0
TRANSP:OPAQUE
END:VEVENT
END:VCALENDAR