BEGIN:VCALENDAR
VERSION:2.0
PRODID:-//jEvents 2.0 for Joomla//EN
CALSCALE:GREGORIAN
METHOD:PUBLISH
BEGIN:VEVENT
UID:040000008200E00074C5B7101A82E008000000003074D76F7F23D9010000000000000000100000001FE0B84757656E40BACEBF75A750BEDB
CATEGORIES:Dienstplan Einsatzabteilung 
CLASS:PUBLIC
CREATED:20230110T204125
SUMMARY:Gelb / Blau - Löschangriff mit Sonderrohre
DESCRIPTION;ENCODING=QUOTED-PRINTABLE:
DTSTAMP:20260425T103927Z
DTSTART:20230612T180000Z
DTEND:20230612T193000Z
SEQUENCE:0
TRANSP:OPAQUE
END:VEVENT
END:VCALENDAR