BEGIN:VCALENDAR
VERSION:2.0
PRODID:-//jEvents 2.0 for Joomla//EN
CALSCALE:GREGORIAN
METHOD:PUBLISH
BEGIN:VEVENT
UID:AAAAAC1NDLjevpZOlBcHtr3iIREHAPDwXk4gdhVKjNSVwdqFEx8AAAAAAhkAAPDwXk4gdhVKjNSVwdqFEx8AAAAAOh8AAA==
CATEGORIES:Dienstplan Einsatzabteilung 
CLASS:PUBLIC
CREATED:20230110T204125
SUMMARY:Gesamtwehr - Jubiläum FF/JFW Großharthau
DESCRIPTION;ENCODING=QUOTED-PRINTABLE:
DTSTAMP:20260425T044454Z
DTSTART;VALUE=DATE:20230526
DTEND;VALUE=DATE:20230529
SEQUENCE:0
TRANSP:OPAQUE
END:VEVENT
END:VCALENDAR