BEGIN:VCALENDAR
VERSION:2.0
PRODID:-//jEvents 2.0 for Joomla//EN
CALSCALE:GREGORIAN
METHOD:PUBLISH
BEGIN:VEVENT
UID:040000008200E00074C5B7101A82E00800000000F0FC4A6D7F23D901000000000000000010000000C2A8541C8855F541BB6705AA135F8497
CATEGORIES:Dienstplan Einsatzabteilung 
CLASS:PUBLIC
CREATED:20230110T204125
SUMMARY:FüGru - Geobyte e-LAN
DESCRIPTION;ENCODING=QUOTED-PRINTABLE:
DTSTAMP:20260425T024450Z
DTSTART:20230517T180000Z
DTEND:20230517T193000Z
SEQUENCE:0
TRANSP:OPAQUE
END:VEVENT
END:VCALENDAR