BEGIN:VCALENDAR
VERSION:2.0
PRODID:-//jEvents 2.0 for Joomla//EN
CALSCALE:GREGORIAN
METHOD:PUBLISH
BEGIN:VEVENT
UID:040000008200E00074C5B7101A82E00800000000D0CE9CE1B722D90100000000000000001000000043D90FA567A1D2419B165EF4653066A8
CATEGORIES:Dienstplan Einsatzabteilung 
CLASS:PUBLIC
CREATED:20230110T204125
SUMMARY:Tag der offenen Tür
DESCRIPTION;ENCODING=QUOTED-PRINTABLE:
DTSTAMP:20260425T031424Z
DTSTART;VALUE=DATE:20230422
DTEND;VALUE=DATE:20230425
SEQUENCE:0
TRANSP:OPAQUE
END:VEVENT
END:VCALENDAR