BEGIN:VCALENDAR
VERSION:2.0
PRODID:-//jEvents 2.0 for Joomla//EN
CALSCALE:GREGORIAN
METHOD:PUBLISH
BEGIN:VEVENT
UID:040000008200E00074C5B7101A82E00800000000B068256C7F23D901000000000000000010000000130875C32E3D834DB673E41B956ED740
CATEGORIES:Dienstplan Einsatzabteilung 
CLASS:PUBLIC
CREATED:20230110T204125
SUMMARY:GF & ZF - Einsatztaktik Hilfeleistungseinsatz
DESCRIPTION;ENCODING=QUOTED-PRINTABLE:
DTSTAMP:20260425T011424Z
DTSTART:20230417T180000Z
DTEND:20230417T193000Z
SEQUENCE:0
TRANSP:OPAQUE
END:VEVENT
END:VCALENDAR