BEGIN:VCALENDAR
VERSION:2.0
PRODID:-//jEvents 2.0 for Joomla//EN
CALSCALE:GREGORIAN
METHOD:PUBLISH
BEGIN:VEVENT
UID:040000008200E00074C5B7101A82E0080000000050208D6B7F23D90100000000000000001000000092B134F75A49C74A80B1495D54C6FF14
CATEGORIES:Dienstplan Einsatzabteilung 
CLASS:PUBLIC
CREATED:20230110T204125
SUMMARY:AGT - Stationsausbildung
DESCRIPTION;ENCODING=QUOTED-PRINTABLE:
DTSTAMP:20260425T010658Z
DTSTART:20230406T180000Z
DTEND:20230406T193000Z
SEQUENCE:0
TRANSP:OPAQUE
END:VEVENT
END:VCALENDAR