BEGIN:VCALENDAR
VERSION:2.0
PRODID:-//jEvents 2.0 for Joomla//EN
CALSCALE:GREGORIAN
METHOD:PUBLISH
BEGIN:VEVENT
UID:040000008200E00074C5B7101A82E00800000000208E826A7F23D901000000000000000010000000B0CE29057F2BE94C87558979AF4E1B86
CATEGORIES:Dienstplan Einsatzabteilung 
CLASS:PUBLIC
CREATED:20230110T204125
SUMMARY:FüGru - Geobyte e-LAN
DESCRIPTION;ENCODING=QUOTED-PRINTABLE:
DTSTAMP:20260425T105508Z
DTSTART:20230315T190000Z
DTEND:20230315T203000Z
SEQUENCE:0
TRANSP:OPAQUE
END:VEVENT
END:VCALENDAR