BEGIN:VCALENDAR
VERSION:2.0
PRODID:-//jEvents 2.0 for Joomla//EN
CALSCALE:GREGORIAN
METHOD:PUBLISH
BEGIN:VEVENT
UID:040000008200E00074C5B7101A82E0080000000010B14C6A7F23D9010000000000000000100000008FA2BF4A6AEB40488C3496317DB0CB7F
CATEGORIES:Dienstplan Einsatzabteilung 
CLASS:PUBLIC
CREATED:20230110T204125
SUMMARY:Gelb / Grün - Sonderfahrzeuge AB-Rüst/THL
DESCRIPTION;ENCODING=QUOTED-PRINTABLE:
DTSTAMP:20260425T124137Z
DTSTART:20230313T190000Z
DTEND:20230313T203000Z
SEQUENCE:0
TRANSP:OPAQUE
END:VEVENT
END:VCALENDAR