BEGIN:VCALENDAR
VERSION:2.0
PRODID:-//jEvents 2.0 for Joomla//EN
CALSCALE:GREGORIAN
METHOD:PUBLISH
BEGIN:VEVENT
UID:040000008200E00074C5B7101A82E0080000000030F60F6A7F23D90100000000000000001000000044529B6ACB04A8479E781C5A3905CB27
CATEGORIES:Dienstplan Einsatzabteilung 
CLASS:PUBLIC
CREATED:20230110T204125
SUMMARY:Rot / Blau - Sonderfahrzeuge AB-Rüst/THL
DESCRIPTION;ENCODING=QUOTED-PRINTABLE:
DTSTAMP:20260425T125107Z
DTSTART:20230306T190000Z
DTEND:20230306T203000Z
SEQUENCE:0
TRANSP:OPAQUE
END:VEVENT
END:VCALENDAR