BEGIN:VCALENDAR
VERSION:2.0
PRODID:-//jEvents 2.0 for Joomla//EN
CALSCALE:GREGORIAN
METHOD:PUBLISH
BEGIN:VEVENT
UID:040000008200E00074C5B7101A82E00800000000206CE1697F23D9010000000000000000100000003BEA77EEC7180F49B756D72385099E83
CATEGORIES:Dienstplan Einsatzabteilung 
CLASS:PUBLIC
CREATED:20230110T204125
SUMMARY:AGT - Belastungsübung Vaihingen/Enz
DESCRIPTION;ENCODING=QUOTED-PRINTABLE:
DTSTAMP:20260425T135753Z
DTSTART:20230301T173000Z
DTEND:20230301T203000Z
SEQUENCE:0
TRANSP:OPAQUE
END:VEVENT
END:VCALENDAR