BEGIN:VCALENDAR
VERSION:2.0
PRODID:-//jEvents 2.0 for Joomla//EN
CALSCALE:GREGORIAN
METHOD:PUBLISH
BEGIN:VEVENT
UID:040000008200E00074C5B7101A82E00800000000605E2D697F23D901000000000000000010000000A1E35CB198068D40B4CCAF9FE96ECE99
CATEGORIES:Dienstplan Einsatzabteilung 
CLASS:PUBLIC
CREATED:20230110T204125
SUMMARY:AGT - Jährliche Unterweisung
DESCRIPTION;ENCODING=QUOTED-PRINTABLE:
DTSTAMP:20260423T094813Z
DTSTART:20230223T190000Z
DTEND:20230223T203000Z
SEQUENCE:0
TRANSP:OPAQUE
END:VEVENT
END:VCALENDAR