BEGIN:VCALENDAR
VERSION:2.0
PRODID:-//jEvents 2.0 for Joomla//EN
CALSCALE:GREGORIAN
METHOD:PUBLISH
BEGIN:VEVENT
UID:040000008200E00074C5B7101A82E00800000000B072E2687F23D90100000000000000001000000057CBC2A66EAB0E419686D784E11BA517
CATEGORIES:Dienstplan Einsatzabteilung 
CLASS:PUBLIC
CREATED:20230110T204125
SUMMARY:Gesamtwehr - Gruppe/Zug im Hilfeleistungseinsatz
DESCRIPTION;ENCODING=QUOTED-PRINTABLE:
DTSTAMP:20260423T094803Z
DTSTART:20230220T190000Z
DTEND:20230220T203000Z
SEQUENCE:0
TRANSP:OPAQUE
END:VEVENT
END:VCALENDAR