BEGIN:VCALENDAR
VERSION:2.0
PRODID:-//jEvents 2.0 for Joomla//EN
CALSCALE:GREGORIAN
METHOD:PUBLISH
BEGIN:VEVENT
UID:040000008200E00074C5B7101A82E00800000000900EC2677F23D90100000000000000001000000005AECBBB9652124A81F813DE7F36D2C5
CATEGORIES:Dienstplan Einsatzabteilung 
CLASS:PUBLIC
CREATED:20230110T204125
SUMMARY:Gelb / Blau - Fahrzeug- und Knotenkunde
DESCRIPTION;ENCODING=QUOTED-PRINTABLE:
DTSTAMP:20260425T141029Z
DTSTART:20230213T190000Z
DTEND:20230213T203000Z
SEQUENCE:0
TRANSP:OPAQUE
END:VEVENT
END:VCALENDAR