BEGIN:VCALENDAR
VERSION:2.0
PRODID:-//jEvents 2.0 for Joomla//EN
CALSCALE:GREGORIAN
METHOD:PUBLISH
BEGIN:VEVENT
UID:AAAAAC1NDLjevpZOlBcHtr3iIREHAPDwXk4gdhVKjNSVwdqFEx8AAAAAAhkAAPDwXk4gdhVKjNSVwdqFEx8AAAAAOgsAAA==
CATEGORIES:Dienstplan Einsatzabteilung 
CLASS:PUBLIC
CREATED:20230110T204125
SUMMARY:TM Modul 1 - Rechtsgrundlagen u. Objektkunde
DESCRIPTION;ENCODING=QUOTED-PRINTABLE:
DTSTAMP:20260423T094818Z
DTSTART:20230211T070000Z
DTEND:20230211T160000Z
SEQUENCE:0
TRANSP:OPAQUE
END:VEVENT
END:VCALENDAR