BEGIN:VCALENDAR
VERSION:2.0
PRODID:-//jEvents 2.0 for Joomla//EN
CALSCALE:GREGORIAN
METHOD:PUBLISH
BEGIN:VEVENT
UID:AAAAAC1NDLjevpZOlBcHtr3iIREHAPDwXk4gdhVKjNSVwdqFEx8AAAAAAhkAAPDwXk4gdhVKjNSVwdqFEx8AAAAAOgoAAA==
CATEGORIES:Dienstplan Einsatzabteilung 
CLASS:PUBLIC
CREATED:20230110T204125
SUMMARY:Rot / Grün - Fahrzeug- und Knotenkunde
DESCRIPTION;ENCODING=QUOTED-PRINTABLE:
DTSTAMP:20260425T125042Z
DTSTART:20230206T190000Z
DTEND:20230206T203000Z
SEQUENCE:0
TRANSP:OPAQUE
END:VEVENT
END:VCALENDAR