BEGIN:VCALENDAR
VERSION:2.0
PRODID:-//jEvents 2.0 for Joomla//EN
CALSCALE:GREGORIAN
METHOD:PUBLISH
BEGIN:VEVENT
UID:040000008200E00074C5B7101A82E0080000000020C159657F23D901000000000000000010000000DCB7C5A8FF9EDD4EB29DDA318C2373F0
CATEGORIES:Dienstplan Einsatzabteilung 
CLASS:PUBLIC
CREATED:20230110T204125
SUMMARY:Gesamtwehr - Jahreshauptversammlung
DESCRIPTION;ENCODING=QUOTED-PRINTABLE:
DTSTAMP:20260423T082800Z
DTSTART:20230127T190000Z
DTEND:20230127T210000Z
SEQUENCE:0
TRANSP:OPAQUE
END:VEVENT
END:VCALENDAR