BEGIN:VCALENDAR
VERSION:2.0
PRODID:-//jEvents 2.0 for Joomla//EN
CALSCALE:GREGORIAN
METHOD:PUBLISH
BEGIN:VEVENT
UID:040000008200E00074C5B7101A82E00800000000003A18677F23D9010000000000000000100000009961F9EBCEFB1B4A86B12B123145B404
CATEGORIES:Dienstplan Einsatzabteilung 
CLASS:PUBLIC
CREATED:20230110T204125
SUMMARY:FüGru - Flutinfo- u. Warn- System FLIWAS
DESCRIPTION;ENCODING=QUOTED-PRINTABLE:
DTSTAMP:20260425T125057Z
DTSTART:20230125T190000Z
DTEND:20230125T203000Z
SEQUENCE:0
TRANSP:OPAQUE
END:VEVENT
END:VCALENDAR