BEGIN:VCALENDAR
VERSION:2.0
PRODID:-//jEvents 2.0 for Joomla//EN
CALSCALE:GREGORIAN
METHOD:PUBLISH
BEGIN:VEVENT
UID:040000008200E00074C5B7101A82E0080000000030023E627F23D901000000000000000010000000247DFDFE5670DB4CB2C37D5307FC8CA7
CATEGORIES:Dienstplan Einsatzabteilung 
CLASS:PUBLIC
CREATED:20230110T204125
SUMMARY:Rot / Gelb - Notfalltüröffnung Feuerwehr
DESCRIPTION;ENCODING=QUOTED-PRINTABLE:
DTSTAMP:20260423T081441Z
DTSTART:20230123T190000Z
DTEND:20230123T203000Z
SEQUENCE:0
TRANSP:OPAQUE
END:VEVENT
END:VCALENDAR