BEGIN:VCALENDAR
VERSION:2.0
PRODID:-//jEvents 2.0 for Joomla//EN
CALSCALE:GREGORIAN
METHOD:PUBLISH
BEGIN:VEVENT
UID:040000008200E00074C5B7101A82E00800000000C096695D7F23D901000000000000000010000000EECC9DE40E23D4499542432B97727218
CATEGORIES:Dienstplan Einsatzabteilung 
CLASS:PUBLIC
CREATED:20230110T204125
SUMMARY:AGT - Belastungsübung Vaihingen/Enz
DESCRIPTION;ENCODING=QUOTED-PRINTABLE:
DTSTAMP:20260425T105507Z
DTSTART:20230118T173000Z
DTEND:20230118T203000Z
SEQUENCE:0
TRANSP:OPAQUE
END:VEVENT
END:VCALENDAR