BEGIN:VCALENDAR
VERSION:2.0
PRODID:-//jEvents 2.0 for Joomla//EN
CALSCALE:GREGORIAN
METHOD:PUBLISH
BEGIN:VEVENT
UID:040000008200E00074C5B7101A82E00800000000304B53597F23D901000000000000000010000000E473EA54D72D60488611EF06C6C32277
CATEGORIES:Dienstplan Einsatzabteilung 
CLASS:PUBLIC
CREATED:20230110T204125
SUMMARY:FüGru - Grundlagen FwDV 100
DESCRIPTION;ENCODING=QUOTED-PRINTABLE:
DTSTAMP:20260423T081441Z
DTSTART:20230116T190000Z
DTEND:20230116T203000Z
SEQUENCE:0
TRANSP:OPAQUE
END:VEVENT
END:VCALENDAR