BEGIN:VCALENDAR
VERSION:2.0
PRODID:-//jEvents 2.0 for Joomla//EN
CALSCALE:GREGORIAN
METHOD:PUBLISH
BEGIN:VEVENT
UID:040000008200E00074C5B7101A82E00800000000702EF8547F23D9010000000000000000100000000961FD33CEE3464BAAD9DB6B166381C8
CATEGORIES:Dienstplan Einsatzabteilung 
CLASS:PUBLIC
CREATED:20230110T204125
SUMMARY:Grün / Blau - Notfalltüröffnung Feuerwehr
DESCRIPTION;ENCODING=QUOTED-PRINTABLE:
DTSTAMP:20260423T082925Z
DTSTART:20230109T190000Z
DTEND:20230109T203000Z
SEQUENCE:0
TRANSP:OPAQUE
END:VEVENT
END:VCALENDAR