BEGIN:VCALENDAR
VERSION:2.0
PRODID:-//jEvents 2.0 for Joomla//EN
CALSCALE:GREGORIAN
METHOD:PUBLISH
BEGIN:VEVENT
UID:AAAAAOKceKdAuZdDqVkQIpR/QYQEMyAA
CATEGORIES:Dienstplan Jugendfeuerwehr
CREATED:20221223T184855
SUMMARY:Gesamtübung - ALLE
LOCATION:Schwieberdingen
DESCRIPTION;ENCODING=QUOTED-PRINTABLE:Bemerkungen: Praxisübung - Sommerübung - Anzugsordnung: Uniform - Teilnehme
 rkreis: ALLE
DTSTAMP:20260425T102238Z
DTSTART:20230629T163000Z
DTEND:20230629T180000Z
SEQUENCE:0
TRANSP:OPAQUE
END:VEVENT
END:VCALENDAR