BEGIN:VCALENDAR
VERSION:2.0
PRODID:-//jEvents 2.0 for Joomla//EN
CALSCALE:GREGORIAN
METHOD:PUBLISH
BEGIN:VEVENT
UID:AAAAAOKceKdAuZdDqVkQIpR/QYTEMiAA
CATEGORIES:Dienstplan Jugendfeuerwehr
CREATED:20221223T184855
SUMMARY:Übung - 81 - GELB
LOCATION:Schwieberdingen
DESCRIPTION;ENCODING=QUOTED-PRINTABLE:Bemerkungen: Praxisübung - Anzugsordnung: Uniform - Teilnehmerkreis: GELB
DTSTAMP:20260425T104435Z
DTSTART:20230615T163000Z
DTEND:20230615T180000Z
SEQUENCE:0
TRANSP:OPAQUE
END:VEVENT
END:VCALENDAR