BEGIN:VCALENDAR
VERSION:2.0
PRODID:-//jEvents 2.0 for Joomla//EN
CALSCALE:GREGORIAN
METHOD:PUBLISH
BEGIN:VEVENT
UID:AAAAAOKceKdAuZdDqVkQIpR/QYTEMSAA
CATEGORIES:Dienstplan Jugendfeuerwehr
CREATED:20221223T184855
SUMMARY:Tag der offenen Tür - ALLE
LOCATION:Schwieberdingen
DESCRIPTION;ENCODING=QUOTED-PRINTABLE:\n\nBemerkungen: Informationen folgen - Anzugsordnung: Uniform - Teilnehmer
 kreis: ALLE\n
DTSTAMP:20260425T042646Z
DTSTART:20230422T080000Z
DTEND:20230424T160000Z
SEQUENCE:0
TRANSP:OPAQUE
END:VEVENT
END:VCALENDAR