BEGIN:VCALENDAR
VERSION:2.0
PRODID:-//jEvents 2.0 for Joomla//EN
CALSCALE:GREGORIAN
METHOD:PUBLISH
BEGIN:VEVENT
UID:AAAAAOKceKdAuZdDqVkQIpR/QYSEMSAA
CATEGORIES:Dienstplan Jugendfeuerwehr
CREATED:20221223T184855
SUMMARY:Baumpflanzaktion - ALLE
LOCATION:Schwieberdingen
DESCRIPTION;ENCODING=QUOTED-PRINTABLE:Bemerkungen: Aktion der Jugendfeuerwehr BaWü - Anzugsordnung: Uniform - Tei
 lnehmerkreis: ALLE
DTSTAMP:20260425T132332Z
DTSTART:20230413T070000Z
DTEND:20230413T140000Z
SEQUENCE:0
TRANSP:OPAQUE
END:VEVENT
END:VCALENDAR