BEGIN:VCALENDAR
VERSION:2.0
PRODID:-//jEvents 2.0 for Joomla//EN
CALSCALE:GREGORIAN
METHOD:PUBLISH
BEGIN:VEVENT
UID:AAAAAOKceKdAuZdDqVkQIpR/QYRkMSAA
CATEGORIES:Dienstplan Jugendfeuerwehr
CREATED:20221223T184855
SUMMARY:Gesamtübung - ALLE
LOCATION:Schwieberdingen
DESCRIPTION;ENCODING=QUOTED-PRINTABLE:Bemerkungen: Praxisübung - Mister X - Anzugsordnung: Uniform - Teilnehmerkr
 eis: ALLE
DTSTAMP:20260425T105508Z
DTSTART:20230330T163000Z
DTEND:20230330T180000Z
SEQUENCE:0
TRANSP:OPAQUE
END:VEVENT
END:VCALENDAR