BEGIN:VCALENDAR
VERSION:2.0
PRODID:-//jEvents 2.0 for Joomla//EN
CALSCALE:GREGORIAN
METHOD:PUBLISH
BEGIN:VEVENT
UID:AAAAAOKceKdAuZdDqVkQIpR/QYSEMCAA
CATEGORIES:Dienstplan Jugendfeuerwehr
CREATED:20221223T184854
SUMMARY:48h - Projekt - ALLE
LOCATION:Schwieberdingen
DESCRIPTION;ENCODING=QUOTED-PRINTABLE:\n\nBemerkungen: Informationen folgen - Anzugsordnung: Uniform - Teilnehmer
 kreis: ALLE\n
DTSTAMP:20260423T094758Z
DTSTART:20230203T140000Z
DTEND:20230205T140000Z
SEQUENCE:0
TRANSP:OPAQUE
END:VEVENT
END:VCALENDAR