BEGIN:VCALENDAR
VERSION:2.0
PRODID:-//jEvents 2.0 for Joomla//EN
CALSCALE:GREGORIAN
METHOD:PUBLISH
BEGIN:VEVENT
UID:AAAAAOKceKdAuZdDqVkQIpR/QYREMCAA
CATEGORIES:Dienstplan Jugendfeuerwehr
CREATED:20221223T184854
SUMMARY:JHV Einsatzabteilung - Jugendsprecher
LOCATION:Schwieberdingen
DESCRIPTION;ENCODING=QUOTED-PRINTABLE:Bemerkungen: Teilnahme mit einer Abordnung der JF - Anzugsordnung: Uniform 
  - Teilnehmerkreis: Jugendsprecher
DTSTAMP:20260425T141222Z
DTSTART:20230127T190000Z
DTEND:20230127T220000Z
SEQUENCE:0
TRANSP:OPAQUE
END:VEVENT
END:VCALENDAR