BEGIN:VCALENDAR
VERSION:2.0
PRODID:-//jEvents 2.0 for Joomla//EN
CALSCALE:GREGORIAN
METHOD:PUBLISH
BEGIN:VEVENT
UID:AAAAAOKceKdAuZdDqVkQIpR/QYQEMCAA
CATEGORIES:Dienstplan Jugendfeuerwehr
CREATED:20221223T184854
SUMMARY:Übung - 12 - ORANGE/ROT
LOCATION:Schwieberdingen
DESCRIPTION;ENCODING=QUOTED-PRINTABLE:Bemerkungen: Praxisübung - Anzugsordnung: Uniform - Teilnehmerkreis: ORANGE
 /ROT
DTSTAMP:20260423T094744Z
DTSTART:20230119T173000Z
DTEND:20230119T190000Z
SEQUENCE:0
TRANSP:OPAQUE
END:VEVENT
END:VCALENDAR