BEGIN:VCALENDAR
VERSION:2.0
PRODID:-//jEvents 2.0 for Joomla//EN
CALSCALE:GREGORIAN
METHOD:PUBLISH
BEGIN:VEVENT
UID:3cf58472f0f90d67e5e81d0603528b02
CATEGORIES:Ferien Baden-Württemberg
CREATED:20221010T190511
SUMMARY:Faschingsferien
DESCRIPTION;ENCODING=QUOTED-PRINTABLE:
DTSTAMP:20260423T113739Z
DTSTART;VALUE=DATE:20230220
DTEND;VALUE=DATE:20230227
SEQUENCE:0
TRANSP:OPAQUE
END:VEVENT
END:VCALENDAR