BEGIN:VCALENDAR
VERSION:2.0
PRODID:-//jEvents 2.0 for Joomla//EN
CALSCALE:GREGORIAN
METHOD:PUBLISH
BEGIN:VEVENT
UID:F_2023_termin6343734452a30@schulferien.org
CATEGORIES:Ferien Baden-Württemberg
CREATED:20221010T190413
SUMMARY:Osterferien 2023 Baden-Württemberg
DESCRIPTION;ENCODING=QUOTED-PRINTABLE:Alle Termine auf www.schulferien.org
DTSTAMP:20260425T032442Z
DTSTART;VALUE=DATE:20230406
DTEND;VALUE=DATE:20230407
SEQUENCE:0
TRANSP:OPAQUE
END:VEVENT
END:VCALENDAR