BEGIN:VCALENDAR
VERSION:2.0
PRODID:-//jEvents 2.0 for Joomla//EN
CALSCALE:GREGORIAN
METHOD:PUBLISH
BEGIN:VEVENT
UID:e7f858890d2d03da5bad73674d68441b
CATEGORIES:Dienstplan Einsatzabteilung 
CREATED:20220704T212519
SUMMARY:Sonderübung Geobyte
DESCRIPTION;ENCODING=QUOTED-PRINTABLE:\n\nSonderübung für Geobyteuser.\n
DTSTAMP:20260423T024244Z
DTSTART:20220804T170000Z
DTEND:20220804T190000Z
SEQUENCE:0
TRANSP:OPAQUE
END:VEVENT
END:VCALENDAR