BEGIN:VCALENDAR
VERSION:2.0
PRODID:-//jEvents 2.0 for Joomla//EN
CALSCALE:GREGORIAN
METHOD:PUBLISH
BEGIN:VEVENT
UID:42d010e86c2385484772cee73e165135
CATEGORIES:Dienstplan Jugendfeuerwehr
CREATED:20220704T212417
SUMMARY:Duathlon
DESCRIPTION;ENCODING=QUOTED-PRINTABLE:
DTSTAMP:20260422T230249Z
DTSTART;VALUE=DATE:20220710
DTEND;VALUE=DATE:20220711
SEQUENCE:0
TRANSP:OPAQUE
END:VEVENT
END:VCALENDAR