BEGIN:VCALENDAR
VERSION:2.0
PRODID:-//jEvents 2.0 for Joomla//EN
CALSCALE:GREGORIAN
METHOD:PUBLISH
BEGIN:VEVENT
UID:93c83984da1d0911e8da22f31a74e324
CATEGORIES:Dienstplan Jugendfeuerwehr
CREATED:20220525T225342
SUMMARY:Grillübung
DESCRIPTION;ENCODING=QUOTED-PRINTABLE:\n\nAbfahrt gegen 18:00 Uhr am Feuerwehrhaus.\n
DTSTAMP:20260422T222918Z
DTSTART:20220711T160000Z
DTEND:20220711T190000Z
SEQUENCE:0
TRANSP:OPAQUE
END:VEVENT
END:VCALENDAR