BEGIN:VCALENDAR
VERSION:2.0
PRODID:-//jEvents 2.0 for Joomla//EN
CALSCALE:GREGORIAN
METHOD:PUBLISH
BEGIN:VEVENT
UID:1d3d4d3f98375fdc17edec355d484223
CATEGORIES:Dienstplan Jugendfeuerwehr
CREATED:20220525T225235
SUMMARY:Schapfenfest
DESCRIPTION;ENCODING=QUOTED-PRINTABLE:
DTSTAMP:20260423T003010Z
DTSTART;VALUE=DATE:20220702
DTEND;VALUE=DATE:20220704
SEQUENCE:0
TRANSP:OPAQUE
END:VEVENT
END:VCALENDAR