BEGIN:VCALENDAR
VERSION:2.0
PRODID:-//jEvents 2.0 for Joomla//EN
CALSCALE:GREGORIAN
METHOD:PUBLISH
BEGIN:VEVENT
UID:54187836bae733f05874b1ed1cf8d49a
CATEGORIES:Dienstplan Jugendfeuerwehr
CREATED:20220525T225206
SUMMARY:Städtepartnerschaftsabend
DESCRIPTION;ENCODING=QUOTED-PRINTABLE:<p>Übergabe der neuen Feuerwehrfahrzeuge</p><p>Anzugsordnung - Uniform mit 
 JF T-Shirt</p>
DTSTAMP:20260422T222816Z
DTSTART:20220701T170000Z
DTEND:20220701T190000Z
SEQUENCE:0
TRANSP:OPAQUE
END:VEVENT
END:VCALENDAR