BEGIN:VCALENDAR
VERSION:2.0
PRODID:-//jEvents 2.0 for Joomla//EN
CALSCALE:GREGORIAN
METHOD:PUBLISH
BEGIN:VEVENT
UID:AAAAAOKceKdAuZdDqVkQIpR/QYQkLyAA
CATEGORIES:Dienstplan Einsatzabteilung 
CLASS:PUBLIC
CREATED:20220327T214949
SUMMARY:Gesamtwehr - Jahresabschluss
DESCRIPTION;ENCODING=QUOTED-PRINTABLE:Übung - Gesamtwehr - Jahresabschluss - Ausbilder: SP
DTSTAMP:20260423T065847Z
DTSTART:20221216T190000Z
DTEND:20221216T203000Z
SEQUENCE:0
TRANSP:OPAQUE
END:VEVENT
END:VCALENDAR