BEGIN:VCALENDAR
VERSION:2.0
PRODID:-//jEvents 2.0 for Joomla//EN
CALSCALE:GREGORIAN
METHOD:PUBLISH
BEGIN:VEVENT
UID:AAAAAOKceKdAuZdDqVkQIpR/QYTkLiAA
CATEGORIES:Dienstplan Einsatzabteilung 
CLASS:PUBLIC
CREATED:20220327T214949
SUMMARY:Ausbilder - Dienstplan 2023
DESCRIPTION;ENCODING=QUOTED-PRINTABLE:Sitzung - Ausbilder - Dienstplan 2023 - Ausbilder: SG
DTSTAMP:20260425T124404Z
DTSTART:20221207T190000Z
DTEND:20221207T203000Z
SEQUENCE:0
TRANSP:OPAQUE
END:VEVENT
END:VCALENDAR