BEGIN:VCALENDAR
VERSION:2.0
PRODID:-//jEvents 2.0 for Joomla//EN
CALSCALE:GREGORIAN
METHOD:PUBLISH
BEGIN:VEVENT
UID:AAAAAOKceKdAuZdDqVkQIpR/QYSELiAA
CATEGORIES:Dienstplan Einsatzabteilung 
CLASS:PUBLIC
CREATED:20220327T214949
SUMMARY:GF und ZF - Einsatz- und Objektpläne
DESCRIPTION;ENCODING=QUOTED-PRINTABLE:Übung - GF und ZF - Einsatz- und Objektpläne - Ausbilder: JJ/BS/SG
DTSTAMP:20260423T024249Z
DTSTART:20221128T190000Z
DTEND:20221128T203000Z
SEQUENCE:0
TRANSP:OPAQUE
END:VEVENT
END:VCALENDAR