BEGIN:VCALENDAR
VERSION:2.0
PRODID:-//jEvents 2.0 for Joomla//EN
CALSCALE:GREGORIAN
METHOD:PUBLISH
BEGIN:VEVENT
UID:AAAAAOKceKdAuZdDqVkQIpR/QYQELiAA
CATEGORIES:Dienstplan Einsatzabteilung 
CLASS:PUBLIC
CREATED:20220327T214949
SUMMARY:GELB - Erste-Hilfe Retten und Transport von Verletzten
DESCRIPTION;ENCODING=QUOTED-PRINTABLE:Übung - GELB - Erste-Hilfe Retten und Transport von Verletzten - Ausbilder:
  FG/FB
DTSTAMP:20260423T034349Z
DTSTART:20221114T190000Z
DTEND:20221114T203000Z
SEQUENCE:0
TRANSP:OPAQUE
END:VEVENT
END:VCALENDAR