BEGIN:VCALENDAR
VERSION:2.0
PRODID:-//jEvents 2.0 for Joomla//EN
CALSCALE:GREGORIAN
METHOD:PUBLISH
BEGIN:VEVENT
UID:AAAAAOKceKdAuZdDqVkQIpR/QYTkLSAA
CATEGORIES:Dienstplan Einsatzabteilung 
CLASS:PUBLIC
CREATED:20220327T214949
SUMMARY:MA - Ort- und Straßenkunde
DESCRIPTION;ENCODING=QUOTED-PRINTABLE:Übung - MA - Ort- und Straßenkunde - Ausbilder: SW
DTSTAMP:20260423T041219Z
DTSTART:20221110T190000Z
DTEND:20221110T203000Z
SEQUENCE:0
TRANSP:OPAQUE
END:VEVENT
END:VCALENDAR