BEGIN:VCALENDAR
VERSION:2.0
PRODID:-//jEvents 2.0 for Joomla//EN
CALSCALE:GREGORIAN
METHOD:PUBLISH
BEGIN:VEVENT
UID:AAAAAOKceKdAuZdDqVkQIpR/QYTELSAA
CATEGORIES:Dienstplan Einsatzabteilung 
CLASS:PUBLIC
CREATED:20220327T214949
SUMMARY:ROT - Erste-Hilfe Retten und Transport von Verletzten
DESCRIPTION;ENCODING=QUOTED-PRINTABLE:Übung - ROT - Erste-Hilfe Retten und Transport von Verletzten - Ausbilder: 
 FG/FB
DTSTAMP:20260423T040724Z
DTSTART:20221107T190000Z
DTEND:20221107T203000Z
SEQUENCE:0
TRANSP:OPAQUE
END:VEVENT
END:VCALENDAR