BEGIN:VCALENDAR
VERSION:2.0
PRODID:-//jEvents 2.0 for Joomla//EN
CALSCALE:GREGORIAN
METHOD:PUBLISH
BEGIN:VEVENT
UID:AAAAAOKceKdAuZdDqVkQIpR/QYSkLSAA
CATEGORIES:Dienstplan Einsatzabteilung 
CLASS:PUBLIC
CREATED:20220327T214949
SUMMARY:AGT - Belastungsübung Ludwigsburg
DESCRIPTION;ENCODING=QUOTED-PRINTABLE:Übung - AGT - Belastungsübung Ludwigsburg - Ausbilder: MH
DTSTAMP:20260423T052659Z
DTSTART:20221026T170000Z
DTEND:20221026T193000Z
SEQUENCE:0
TRANSP:OPAQUE
END:VEVENT
END:VCALENDAR