BEGIN:VCALENDAR
VERSION:2.0
PRODID:-//jEvents 2.0 for Joomla//EN
CALSCALE:GREGORIAN
METHOD:PUBLISH
BEGIN:VEVENT
UID:AAAAAOKceKdAuZdDqVkQIpR/QYSELSAA
CATEGORIES:Dienstplan Einsatzabteilung 
CLASS:PUBLIC
CREATED:20220327T214949
SUMMARY:GF und ZF - Einsatztaktik Gefahrstoffeinsatz
DESCRIPTION;ENCODING=QUOTED-PRINTABLE:Übung - GF und ZF - Einsatztaktik Gefahrstoffeinsatz - Ausbilder: JJ/BS/SG
DTSTAMP:20260423T055305Z
DTSTART:20221024T180000Z
DTEND:20221024T193000Z
SEQUENCE:0
TRANSP:OPAQUE
END:VEVENT
END:VCALENDAR