BEGIN:VCALENDAR
VERSION:2.0
PRODID:-//jEvents 2.0 for Joomla//EN
CALSCALE:GREGORIAN
METHOD:PUBLISH
BEGIN:VEVENT
UID:AAAAAOKceKdAuZdDqVkQIpR/QYRkLSAA
CATEGORIES:Dienstplan Einsatzabteilung 
CLASS:PUBLIC
CREATED:20220327T214949
SUMMARY:AGT - Stationsausbildung
DESCRIPTION;ENCODING=QUOTED-PRINTABLE:Übung - AGT - Stationsausbildung - Ausbilder: MH/BB
DTSTAMP:20260423T041214Z
DTSTART:20221020T180000Z
DTEND:20221020T193000Z
SEQUENCE:0
TRANSP:OPAQUE
END:VEVENT
END:VCALENDAR