BEGIN:VCALENDAR
VERSION:2.0
PRODID:-//jEvents 2.0 for Joomla//EN
CALSCALE:GREGORIAN
METHOD:PUBLISH
BEGIN:VEVENT
UID:AAAAAOKceKdAuZdDqVkQIpR/QYRELSAA
CATEGORIES:Dienstplan Einsatzabteilung 
CLASS:PUBLIC
CREATED:20220327T214949
SUMMARY:BLAU - Ausbildungsblock V - TRM/TRF Auffangen/Abdichten/Umfüllen
DESCRIPTION;ENCODING=QUOTED-PRINTABLE:Übung - BLAU - Ausbildungsblock V - TRM/TRF Auffangen/Abdichten/Umfüllen - 
 Ausbilder: SW/PA
DTSTAMP:20260423T041239Z
DTSTART:20221017T180000Z
DTEND:20221017T193000Z
SEQUENCE:0
TRANSP:OPAQUE
END:VEVENT
END:VCALENDAR