BEGIN:VCALENDAR
VERSION:2.0
PRODID:-//jEvents 2.0 for Joomla//EN
CALSCALE:GREGORIAN
METHOD:PUBLISH
BEGIN:VEVENT
UID:AAAAAOKceKdAuZdDqVkQIpR/QYQELSAA
CATEGORIES:Dienstplan Einsatzabteilung 
CLASS:PUBLIC
CREATED:20220327T214949
SUMMARY:Gesamtwehr - Kameradschaftsabend Pandemie bedingte Ausführung unklar
DESCRIPTION;ENCODING=QUOTED-PRINTABLE:Kameradschaftsabend - Gesamtwehr - Kameradschaftsabend Pandemie bedingte Au
 sführung unklar - Ausbilder: JJ/BS
DTSTAMP:20260423T040719Z
DTSTART:20221008T180000Z
DTEND:20221009T010000Z
SEQUENCE:0
TRANSP:OPAQUE
END:VEVENT
END:VCALENDAR